BEGIN:VCALENDAR
VERSION:2.0
PRODID:-//Enjoy South Padre Island - ECPv6.15.20//NONSGML v1.0//EN
CALSCALE:GREGORIAN
METHOD:PUBLISH
X-WR-CALNAME:Enjoy South Padre Island
X-ORIGINAL-URL:https://info.enjoyspi.com
X-WR-CALDESC:Events for Enjoy South Padre Island
REFRESH-INTERVAL;VALUE=DURATION:PT1H
X-Robots-Tag:noindex
X-PUBLISHED-TTL:PT1H
BEGIN:VTIMEZONE
TZID:America/Chicago
BEGIN:DAYLIGHT
TZOFFSETFROM:-0600
TZOFFSETTO:-0500
TZNAME:CDT
DTSTART:20250309T080000
END:DAYLIGHT
BEGIN:STANDARD
TZOFFSETFROM:-0500
TZOFFSETTO:-0600
TZNAME:CST
DTSTART:20251102T070000
END:STANDARD
BEGIN:DAYLIGHT
TZOFFSETFROM:-0600
TZOFFSETTO:-0500
TZNAME:CDT
DTSTART:20260308T080000
END:DAYLIGHT
BEGIN:STANDARD
TZOFFSETFROM:-0500
TZOFFSETTO:-0600
TZNAME:CST
DTSTART:20261101T070000
END:STANDARD
BEGIN:DAYLIGHT
TZOFFSETFROM:-0600
TZOFFSETTO:-0500
TZNAME:CDT
DTSTART:20270314T080000
END:DAYLIGHT
BEGIN:STANDARD
TZOFFSETFROM:-0500
TZOFFSETTO:-0600
TZNAME:CST
DTSTART:20271107T070000
END:STANDARD
END:VTIMEZONE
BEGIN:VEVENT
DTSTART;TZID=America/Chicago:20260424T150000
DTEND;TZID=America/Chicago:20260424T180000
DTSTAMP:20260421T081208
CREATED:20250516T205911Z
LAST-MODIFIED:20250516T205911Z
UID:10004675-1777042800-1777053600@info.enjoyspi.com
SUMMARY:Devilla at La Copa
DESCRIPTION:Join us Fridays & Sundays from 3:00 PM – 6:00 PM for an unforgettable poolside performance! \n\n\nRelax\, sip on a drink from La Copa Cabana Bar & Grill\, and enjoy the perfect beachside vibes with Devilla live music.\n\n\nTag your friends and make it a music-filled weekend!
URL:https://info.enjoyspi.com/event/devilla-at-la-copa/2026-04-24/
LOCATION:La Copa Inn\, 350 Padre Blvd\, South Padre Island\, TX\, 78597-6501\, United States
ATTACH;FMTTYPE=image/jpeg:https://info.enjoyspi.com/wp-content/uploads/2025/05/DEVILLA-LIVE-ON-LA-COPA-SOCIAL-MEDIA-scaled.jpg
END:VEVENT
BEGIN:VEVENT
DTSTART;TZID=America/Chicago:20260426T150000
DTEND;TZID=America/Chicago:20260426T180000
DTSTAMP:20260421T081208
CREATED:20250516T205911Z
LAST-MODIFIED:20250516T205911Z
UID:10004676-1777215600-1777226400@info.enjoyspi.com
SUMMARY:Devilla at La Copa
DESCRIPTION:Join us Fridays & Sundays from 3:00 PM – 6:00 PM for an unforgettable poolside performance! \n\n\nRelax\, sip on a drink from La Copa Cabana Bar & Grill\, and enjoy the perfect beachside vibes with Devilla live music.\n\n\nTag your friends and make it a music-filled weekend!
URL:https://info.enjoyspi.com/event/devilla-at-la-copa/2026-04-26/
LOCATION:La Copa Inn\, 350 Padre Blvd\, South Padre Island\, TX\, 78597-6501\, United States
ATTACH;FMTTYPE=image/jpeg:https://info.enjoyspi.com/wp-content/uploads/2025/05/DEVILLA-LIVE-ON-LA-COPA-SOCIAL-MEDIA-scaled.jpg
END:VEVENT
BEGIN:VEVENT
DTSTART;TZID=America/Chicago:20260501T150000
DTEND;TZID=America/Chicago:20260501T180000
DTSTAMP:20260421T081208
CREATED:20250516T205911Z
LAST-MODIFIED:20250516T205911Z
UID:10004677-1777647600-1777658400@info.enjoyspi.com
SUMMARY:Devilla at La Copa
DESCRIPTION:Join us Fridays & Sundays from 3:00 PM – 6:00 PM for an unforgettable poolside performance! \n\n\nRelax\, sip on a drink from La Copa Cabana Bar & Grill\, and enjoy the perfect beachside vibes with Devilla live music.\n\n\nTag your friends and make it a music-filled weekend!
URL:https://info.enjoyspi.com/event/devilla-at-la-copa/2026-05-01/
LOCATION:La Copa Inn\, 350 Padre Blvd\, South Padre Island\, TX\, 78597-6501\, United States
ATTACH;FMTTYPE=image/jpeg:https://info.enjoyspi.com/wp-content/uploads/2025/05/DEVILLA-LIVE-ON-LA-COPA-SOCIAL-MEDIA-scaled.jpg
END:VEVENT
BEGIN:VEVENT
DTSTART;TZID=America/Chicago:20260503T150000
DTEND;TZID=America/Chicago:20260503T180000
DTSTAMP:20260421T081208
CREATED:20250516T205911Z
LAST-MODIFIED:20250516T205911Z
UID:10004678-1777820400-1777831200@info.enjoyspi.com
SUMMARY:Devilla at La Copa
DESCRIPTION:Join us Fridays & Sundays from 3:00 PM – 6:00 PM for an unforgettable poolside performance! \n\n\nRelax\, sip on a drink from La Copa Cabana Bar & Grill\, and enjoy the perfect beachside vibes with Devilla live music.\n\n\nTag your friends and make it a music-filled weekend!
URL:https://info.enjoyspi.com/event/devilla-at-la-copa/2026-05-03/
LOCATION:La Copa Inn\, 350 Padre Blvd\, South Padre Island\, TX\, 78597-6501\, United States
ATTACH;FMTTYPE=image/jpeg:https://info.enjoyspi.com/wp-content/uploads/2025/05/DEVILLA-LIVE-ON-LA-COPA-SOCIAL-MEDIA-scaled.jpg
END:VEVENT
BEGIN:VEVENT
DTSTART;TZID=America/Chicago:20260508T150000
DTEND;TZID=America/Chicago:20260508T180000
DTSTAMP:20260421T081208
CREATED:20250516T205911Z
LAST-MODIFIED:20250516T205911Z
UID:10004679-1778252400-1778263200@info.enjoyspi.com
SUMMARY:Devilla at La Copa
DESCRIPTION:Join us Fridays & Sundays from 3:00 PM – 6:00 PM for an unforgettable poolside performance! \n\n\nRelax\, sip on a drink from La Copa Cabana Bar & Grill\, and enjoy the perfect beachside vibes with Devilla live music.\n\n\nTag your friends and make it a music-filled weekend!
URL:https://info.enjoyspi.com/event/devilla-at-la-copa/2026-05-08/
LOCATION:La Copa Inn\, 350 Padre Blvd\, South Padre Island\, TX\, 78597-6501\, United States
ATTACH;FMTTYPE=image/jpeg:https://info.enjoyspi.com/wp-content/uploads/2025/05/DEVILLA-LIVE-ON-LA-COPA-SOCIAL-MEDIA-scaled.jpg
END:VEVENT
BEGIN:VEVENT
DTSTART;TZID=America/Chicago:20260510T150000
DTEND;TZID=America/Chicago:20260510T180000
DTSTAMP:20260421T081208
CREATED:20250516T205911Z
LAST-MODIFIED:20250516T205911Z
UID:10004680-1778425200-1778436000@info.enjoyspi.com
SUMMARY:Devilla at La Copa
DESCRIPTION:Join us Fridays & Sundays from 3:00 PM – 6:00 PM for an unforgettable poolside performance! \n\n\nRelax\, sip on a drink from La Copa Cabana Bar & Grill\, and enjoy the perfect beachside vibes with Devilla live music.\n\n\nTag your friends and make it a music-filled weekend!
URL:https://info.enjoyspi.com/event/devilla-at-la-copa/2026-05-10/
LOCATION:La Copa Inn\, 350 Padre Blvd\, South Padre Island\, TX\, 78597-6501\, United States
ATTACH;FMTTYPE=image/jpeg:https://info.enjoyspi.com/wp-content/uploads/2025/05/DEVILLA-LIVE-ON-LA-COPA-SOCIAL-MEDIA-scaled.jpg
END:VEVENT
BEGIN:VEVENT
DTSTART;TZID=America/Chicago:20260515T150000
DTEND;TZID=America/Chicago:20260515T180000
DTSTAMP:20260421T081208
CREATED:20250516T205911Z
LAST-MODIFIED:20250516T205911Z
UID:10004681-1778857200-1778868000@info.enjoyspi.com
SUMMARY:Devilla at La Copa
DESCRIPTION:Join us Fridays & Sundays from 3:00 PM – 6:00 PM for an unforgettable poolside performance! \n\n\nRelax\, sip on a drink from La Copa Cabana Bar & Grill\, and enjoy the perfect beachside vibes with Devilla live music.\n\n\nTag your friends and make it a music-filled weekend!
URL:https://info.enjoyspi.com/event/devilla-at-la-copa/2026-05-15/
LOCATION:La Copa Inn\, 350 Padre Blvd\, South Padre Island\, TX\, 78597-6501\, United States
ATTACH;FMTTYPE=image/jpeg:https://info.enjoyspi.com/wp-content/uploads/2025/05/DEVILLA-LIVE-ON-LA-COPA-SOCIAL-MEDIA-scaled.jpg
END:VEVENT
BEGIN:VEVENT
DTSTART;TZID=America/Chicago:20260517T150000
DTEND;TZID=America/Chicago:20260517T180000
DTSTAMP:20260421T081208
CREATED:20250516T205911Z
LAST-MODIFIED:20250516T205911Z
UID:10004682-1779030000-1779040800@info.enjoyspi.com
SUMMARY:Devilla at La Copa
DESCRIPTION:Join us Fridays & Sundays from 3:00 PM – 6:00 PM for an unforgettable poolside performance! \n\n\nRelax\, sip on a drink from La Copa Cabana Bar & Grill\, and enjoy the perfect beachside vibes with Devilla live music.\n\n\nTag your friends and make it a music-filled weekend!
URL:https://info.enjoyspi.com/event/devilla-at-la-copa/2026-05-17/
LOCATION:La Copa Inn\, 350 Padre Blvd\, South Padre Island\, TX\, 78597-6501\, United States
ATTACH;FMTTYPE=image/jpeg:https://info.enjoyspi.com/wp-content/uploads/2025/05/DEVILLA-LIVE-ON-LA-COPA-SOCIAL-MEDIA-scaled.jpg
END:VEVENT
BEGIN:VEVENT
DTSTART;TZID=America/Chicago:20260522T150000
DTEND;TZID=America/Chicago:20260522T180000
DTSTAMP:20260421T081208
CREATED:20250516T205911Z
LAST-MODIFIED:20250516T205911Z
UID:10004683-1779462000-1779472800@info.enjoyspi.com
SUMMARY:Devilla at La Copa
DESCRIPTION:Join us Fridays & Sundays from 3:00 PM – 6:00 PM for an unforgettable poolside performance! \n\n\nRelax\, sip on a drink from La Copa Cabana Bar & Grill\, and enjoy the perfect beachside vibes with Devilla live music.\n\n\nTag your friends and make it a music-filled weekend!
URL:https://info.enjoyspi.com/event/devilla-at-la-copa/2026-05-22/
LOCATION:La Copa Inn\, 350 Padre Blvd\, South Padre Island\, TX\, 78597-6501\, United States
ATTACH;FMTTYPE=image/jpeg:https://info.enjoyspi.com/wp-content/uploads/2025/05/DEVILLA-LIVE-ON-LA-COPA-SOCIAL-MEDIA-scaled.jpg
END:VEVENT
BEGIN:VEVENT
DTSTART;TZID=America/Chicago:20260524T150000
DTEND;TZID=America/Chicago:20260524T180000
DTSTAMP:20260421T081208
CREATED:20250516T205911Z
LAST-MODIFIED:20250516T205911Z
UID:10004684-1779634800-1779645600@info.enjoyspi.com
SUMMARY:Devilla at La Copa
DESCRIPTION:Join us Fridays & Sundays from 3:00 PM – 6:00 PM for an unforgettable poolside performance! \n\n\nRelax\, sip on a drink from La Copa Cabana Bar & Grill\, and enjoy the perfect beachside vibes with Devilla live music.\n\n\nTag your friends and make it a music-filled weekend!
URL:https://info.enjoyspi.com/event/devilla-at-la-copa/2026-05-24/
LOCATION:La Copa Inn\, 350 Padre Blvd\, South Padre Island\, TX\, 78597-6501\, United States
ATTACH;FMTTYPE=image/jpeg:https://info.enjoyspi.com/wp-content/uploads/2025/05/DEVILLA-LIVE-ON-LA-COPA-SOCIAL-MEDIA-scaled.jpg
END:VEVENT
BEGIN:VEVENT
DTSTART;TZID=America/Chicago:20260529T150000
DTEND;TZID=America/Chicago:20260529T180000
DTSTAMP:20260421T081208
CREATED:20250516T205911Z
LAST-MODIFIED:20250516T205911Z
UID:10004685-1780066800-1780077600@info.enjoyspi.com
SUMMARY:Devilla at La Copa
DESCRIPTION:Join us Fridays & Sundays from 3:00 PM – 6:00 PM for an unforgettable poolside performance! \n\n\nRelax\, sip on a drink from La Copa Cabana Bar & Grill\, and enjoy the perfect beachside vibes with Devilla live music.\n\n\nTag your friends and make it a music-filled weekend!
URL:https://info.enjoyspi.com/event/devilla-at-la-copa/2026-05-29/
LOCATION:La Copa Inn\, 350 Padre Blvd\, South Padre Island\, TX\, 78597-6501\, United States
ATTACH;FMTTYPE=image/jpeg:https://info.enjoyspi.com/wp-content/uploads/2025/05/DEVILLA-LIVE-ON-LA-COPA-SOCIAL-MEDIA-scaled.jpg
END:VEVENT
BEGIN:VEVENT
DTSTART;TZID=America/Chicago:20260531T150000
DTEND;TZID=America/Chicago:20260531T180000
DTSTAMP:20260421T081208
CREATED:20250516T205911Z
LAST-MODIFIED:20250516T205911Z
UID:10004686-1780239600-1780250400@info.enjoyspi.com
SUMMARY:Devilla at La Copa
DESCRIPTION:Join us Fridays & Sundays from 3:00 PM – 6:00 PM for an unforgettable poolside performance! \n\n\nRelax\, sip on a drink from La Copa Cabana Bar & Grill\, and enjoy the perfect beachside vibes with Devilla live music.\n\n\nTag your friends and make it a music-filled weekend!
URL:https://info.enjoyspi.com/event/devilla-at-la-copa/2026-05-31/
LOCATION:La Copa Inn\, 350 Padre Blvd\, South Padre Island\, TX\, 78597-6501\, United States
ATTACH;FMTTYPE=image/jpeg:https://info.enjoyspi.com/wp-content/uploads/2025/05/DEVILLA-LIVE-ON-LA-COPA-SOCIAL-MEDIA-scaled.jpg
END:VEVENT
BEGIN:VEVENT
DTSTART;TZID=America/Chicago:20260605T150000
DTEND;TZID=America/Chicago:20260605T180000
DTSTAMP:20260421T081208
CREATED:20250516T205911Z
LAST-MODIFIED:20250516T205911Z
UID:10004687-1780671600-1780682400@info.enjoyspi.com
SUMMARY:Devilla at La Copa
DESCRIPTION:Join us Fridays & Sundays from 3:00 PM – 6:00 PM for an unforgettable poolside performance! \n\n\nRelax\, sip on a drink from La Copa Cabana Bar & Grill\, and enjoy the perfect beachside vibes with Devilla live music.\n\n\nTag your friends and make it a music-filled weekend!
URL:https://info.enjoyspi.com/event/devilla-at-la-copa/2026-06-05/
LOCATION:La Copa Inn\, 350 Padre Blvd\, South Padre Island\, TX\, 78597-6501\, United States
ATTACH;FMTTYPE=image/jpeg:https://info.enjoyspi.com/wp-content/uploads/2025/05/DEVILLA-LIVE-ON-LA-COPA-SOCIAL-MEDIA-scaled.jpg
END:VEVENT
BEGIN:VEVENT
DTSTART;TZID=America/Chicago:20260607T150000
DTEND;TZID=America/Chicago:20260607T180000
DTSTAMP:20260421T081208
CREATED:20250516T205911Z
LAST-MODIFIED:20250516T205911Z
UID:10004688-1780844400-1780855200@info.enjoyspi.com
SUMMARY:Devilla at La Copa
DESCRIPTION:Join us Fridays & Sundays from 3:00 PM – 6:00 PM for an unforgettable poolside performance! \n\n\nRelax\, sip on a drink from La Copa Cabana Bar & Grill\, and enjoy the perfect beachside vibes with Devilla live music.\n\n\nTag your friends and make it a music-filled weekend!
URL:https://info.enjoyspi.com/event/devilla-at-la-copa/2026-06-07/
LOCATION:La Copa Inn\, 350 Padre Blvd\, South Padre Island\, TX\, 78597-6501\, United States
ATTACH;FMTTYPE=image/jpeg:https://info.enjoyspi.com/wp-content/uploads/2025/05/DEVILLA-LIVE-ON-LA-COPA-SOCIAL-MEDIA-scaled.jpg
END:VEVENT
BEGIN:VEVENT
DTSTART;TZID=America/Chicago:20260612T150000
DTEND;TZID=America/Chicago:20260612T180000
DTSTAMP:20260421T081208
CREATED:20250516T205911Z
LAST-MODIFIED:20250516T205911Z
UID:10004689-1781276400-1781287200@info.enjoyspi.com
SUMMARY:Devilla at La Copa
DESCRIPTION:Join us Fridays & Sundays from 3:00 PM – 6:00 PM for an unforgettable poolside performance! \n\n\nRelax\, sip on a drink from La Copa Cabana Bar & Grill\, and enjoy the perfect beachside vibes with Devilla live music.\n\n\nTag your friends and make it a music-filled weekend!
URL:https://info.enjoyspi.com/event/devilla-at-la-copa/2026-06-12/
LOCATION:La Copa Inn\, 350 Padre Blvd\, South Padre Island\, TX\, 78597-6501\, United States
ATTACH;FMTTYPE=image/jpeg:https://info.enjoyspi.com/wp-content/uploads/2025/05/DEVILLA-LIVE-ON-LA-COPA-SOCIAL-MEDIA-scaled.jpg
END:VEVENT
BEGIN:VEVENT
DTSTART;TZID=America/Chicago:20260614T150000
DTEND;TZID=America/Chicago:20260614T180000
DTSTAMP:20260421T081208
CREATED:20250516T205911Z
LAST-MODIFIED:20250516T205911Z
UID:10004690-1781449200-1781460000@info.enjoyspi.com
SUMMARY:Devilla at La Copa
DESCRIPTION:Join us Fridays & Sundays from 3:00 PM – 6:00 PM for an unforgettable poolside performance! \n\n\nRelax\, sip on a drink from La Copa Cabana Bar & Grill\, and enjoy the perfect beachside vibes with Devilla live music.\n\n\nTag your friends and make it a music-filled weekend!
URL:https://info.enjoyspi.com/event/devilla-at-la-copa/2026-06-14/
LOCATION:La Copa Inn\, 350 Padre Blvd\, South Padre Island\, TX\, 78597-6501\, United States
ATTACH;FMTTYPE=image/jpeg:https://info.enjoyspi.com/wp-content/uploads/2025/05/DEVILLA-LIVE-ON-LA-COPA-SOCIAL-MEDIA-scaled.jpg
END:VEVENT
BEGIN:VEVENT
DTSTART;TZID=America/Chicago:20260619T150000
DTEND;TZID=America/Chicago:20260619T180000
DTSTAMP:20260421T081208
CREATED:20250516T205911Z
LAST-MODIFIED:20250516T205911Z
UID:10004691-1781881200-1781892000@info.enjoyspi.com
SUMMARY:Devilla at La Copa
DESCRIPTION:Join us Fridays & Sundays from 3:00 PM – 6:00 PM for an unforgettable poolside performance! \n\n\nRelax\, sip on a drink from La Copa Cabana Bar & Grill\, and enjoy the perfect beachside vibes with Devilla live music.\n\n\nTag your friends and make it a music-filled weekend!
URL:https://info.enjoyspi.com/event/devilla-at-la-copa/2026-06-19/
LOCATION:La Copa Inn\, 350 Padre Blvd\, South Padre Island\, TX\, 78597-6501\, United States
ATTACH;FMTTYPE=image/jpeg:https://info.enjoyspi.com/wp-content/uploads/2025/05/DEVILLA-LIVE-ON-LA-COPA-SOCIAL-MEDIA-scaled.jpg
END:VEVENT
BEGIN:VEVENT
DTSTART;TZID=America/Chicago:20260621T150000
DTEND;TZID=America/Chicago:20260621T180000
DTSTAMP:20260421T081208
CREATED:20250516T205911Z
LAST-MODIFIED:20250516T205911Z
UID:10004692-1782054000-1782064800@info.enjoyspi.com
SUMMARY:Devilla at La Copa
DESCRIPTION:Join us Fridays & Sundays from 3:00 PM – 6:00 PM for an unforgettable poolside performance! \n\n\nRelax\, sip on a drink from La Copa Cabana Bar & Grill\, and enjoy the perfect beachside vibes with Devilla live music.\n\n\nTag your friends and make it a music-filled weekend!
URL:https://info.enjoyspi.com/event/devilla-at-la-copa/2026-06-21/
LOCATION:La Copa Inn\, 350 Padre Blvd\, South Padre Island\, TX\, 78597-6501\, United States
ATTACH;FMTTYPE=image/jpeg:https://info.enjoyspi.com/wp-content/uploads/2025/05/DEVILLA-LIVE-ON-LA-COPA-SOCIAL-MEDIA-scaled.jpg
END:VEVENT
BEGIN:VEVENT
DTSTART;TZID=America/Chicago:20260626T150000
DTEND;TZID=America/Chicago:20260626T180000
DTSTAMP:20260421T081208
CREATED:20250516T205911Z
LAST-MODIFIED:20250516T205911Z
UID:10004693-1782486000-1782496800@info.enjoyspi.com
SUMMARY:Devilla at La Copa
DESCRIPTION:Join us Fridays & Sundays from 3:00 PM – 6:00 PM for an unforgettable poolside performance! \n\n\nRelax\, sip on a drink from La Copa Cabana Bar & Grill\, and enjoy the perfect beachside vibes with Devilla live music.\n\n\nTag your friends and make it a music-filled weekend!
URL:https://info.enjoyspi.com/event/devilla-at-la-copa/2026-06-26/
LOCATION:La Copa Inn\, 350 Padre Blvd\, South Padre Island\, TX\, 78597-6501\, United States
ATTACH;FMTTYPE=image/jpeg:https://info.enjoyspi.com/wp-content/uploads/2025/05/DEVILLA-LIVE-ON-LA-COPA-SOCIAL-MEDIA-scaled.jpg
END:VEVENT
BEGIN:VEVENT
DTSTART;TZID=America/Chicago:20260628T150000
DTEND;TZID=America/Chicago:20260628T180000
DTSTAMP:20260421T081208
CREATED:20250516T205911Z
LAST-MODIFIED:20250516T205911Z
UID:10004694-1782658800-1782669600@info.enjoyspi.com
SUMMARY:Devilla at La Copa
DESCRIPTION:Join us Fridays & Sundays from 3:00 PM – 6:00 PM for an unforgettable poolside performance! \n\n\nRelax\, sip on a drink from La Copa Cabana Bar & Grill\, and enjoy the perfect beachside vibes with Devilla live music.\n\n\nTag your friends and make it a music-filled weekend!
URL:https://info.enjoyspi.com/event/devilla-at-la-copa/2026-06-28/
LOCATION:La Copa Inn\, 350 Padre Blvd\, South Padre Island\, TX\, 78597-6501\, United States
ATTACH;FMTTYPE=image/jpeg:https://info.enjoyspi.com/wp-content/uploads/2025/05/DEVILLA-LIVE-ON-LA-COPA-SOCIAL-MEDIA-scaled.jpg
END:VEVENT
BEGIN:VEVENT
DTSTART;TZID=America/Chicago:20260703T150000
DTEND;TZID=America/Chicago:20260703T180000
DTSTAMP:20260421T081208
CREATED:20250516T205911Z
LAST-MODIFIED:20250516T205911Z
UID:10004695-1783090800-1783101600@info.enjoyspi.com
SUMMARY:Devilla at La Copa
DESCRIPTION:Join us Fridays & Sundays from 3:00 PM – 6:00 PM for an unforgettable poolside performance! \n\n\nRelax\, sip on a drink from La Copa Cabana Bar & Grill\, and enjoy the perfect beachside vibes with Devilla live music.\n\n\nTag your friends and make it a music-filled weekend!
URL:https://info.enjoyspi.com/event/devilla-at-la-copa/2026-07-03/
LOCATION:La Copa Inn\, 350 Padre Blvd\, South Padre Island\, TX\, 78597-6501\, United States
ATTACH;FMTTYPE=image/jpeg:https://info.enjoyspi.com/wp-content/uploads/2025/05/DEVILLA-LIVE-ON-LA-COPA-SOCIAL-MEDIA-scaled.jpg
END:VEVENT
BEGIN:VEVENT
DTSTART;TZID=America/Chicago:20260705T150000
DTEND;TZID=America/Chicago:20260705T180000
DTSTAMP:20260421T081208
CREATED:20250516T205911Z
LAST-MODIFIED:20250516T205911Z
UID:10004696-1783263600-1783274400@info.enjoyspi.com
SUMMARY:Devilla at La Copa
DESCRIPTION:Join us Fridays & Sundays from 3:00 PM – 6:00 PM for an unforgettable poolside performance! \n\n\nRelax\, sip on a drink from La Copa Cabana Bar & Grill\, and enjoy the perfect beachside vibes with Devilla live music.\n\n\nTag your friends and make it a music-filled weekend!
URL:https://info.enjoyspi.com/event/devilla-at-la-copa/2026-07-05/
LOCATION:La Copa Inn\, 350 Padre Blvd\, South Padre Island\, TX\, 78597-6501\, United States
ATTACH;FMTTYPE=image/jpeg:https://info.enjoyspi.com/wp-content/uploads/2025/05/DEVILLA-LIVE-ON-LA-COPA-SOCIAL-MEDIA-scaled.jpg
END:VEVENT
BEGIN:VEVENT
DTSTART;TZID=America/Chicago:20260710T150000
DTEND;TZID=America/Chicago:20260710T180000
DTSTAMP:20260421T081208
CREATED:20250516T205911Z
LAST-MODIFIED:20250516T205911Z
UID:10004697-1783695600-1783706400@info.enjoyspi.com
SUMMARY:Devilla at La Copa
DESCRIPTION:Join us Fridays & Sundays from 3:00 PM – 6:00 PM for an unforgettable poolside performance! \n\n\nRelax\, sip on a drink from La Copa Cabana Bar & Grill\, and enjoy the perfect beachside vibes with Devilla live music.\n\n\nTag your friends and make it a music-filled weekend!
URL:https://info.enjoyspi.com/event/devilla-at-la-copa/2026-07-10/
LOCATION:La Copa Inn\, 350 Padre Blvd\, South Padre Island\, TX\, 78597-6501\, United States
ATTACH;FMTTYPE=image/jpeg:https://info.enjoyspi.com/wp-content/uploads/2025/05/DEVILLA-LIVE-ON-LA-COPA-SOCIAL-MEDIA-scaled.jpg
END:VEVENT
BEGIN:VEVENT
DTSTART;TZID=America/Chicago:20260712T150000
DTEND;TZID=America/Chicago:20260712T180000
DTSTAMP:20260421T081208
CREATED:20250516T205911Z
LAST-MODIFIED:20250516T205911Z
UID:10004698-1783868400-1783879200@info.enjoyspi.com
SUMMARY:Devilla at La Copa
DESCRIPTION:Join us Fridays & Sundays from 3:00 PM – 6:00 PM for an unforgettable poolside performance! \n\n\nRelax\, sip on a drink from La Copa Cabana Bar & Grill\, and enjoy the perfect beachside vibes with Devilla live music.\n\n\nTag your friends and make it a music-filled weekend!
URL:https://info.enjoyspi.com/event/devilla-at-la-copa/2026-07-12/
LOCATION:La Copa Inn\, 350 Padre Blvd\, South Padre Island\, TX\, 78597-6501\, United States
ATTACH;FMTTYPE=image/jpeg:https://info.enjoyspi.com/wp-content/uploads/2025/05/DEVILLA-LIVE-ON-LA-COPA-SOCIAL-MEDIA-scaled.jpg
END:VEVENT
BEGIN:VEVENT
DTSTART;TZID=America/Chicago:20260717T150000
DTEND;TZID=America/Chicago:20260717T180000
DTSTAMP:20260421T081208
CREATED:20250516T205911Z
LAST-MODIFIED:20250516T205911Z
UID:10004699-1784300400-1784311200@info.enjoyspi.com
SUMMARY:Devilla at La Copa
DESCRIPTION:Join us Fridays & Sundays from 3:00 PM – 6:00 PM for an unforgettable poolside performance! \n\n\nRelax\, sip on a drink from La Copa Cabana Bar & Grill\, and enjoy the perfect beachside vibes with Devilla live music.\n\n\nTag your friends and make it a music-filled weekend!
URL:https://info.enjoyspi.com/event/devilla-at-la-copa/2026-07-17/
LOCATION:La Copa Inn\, 350 Padre Blvd\, South Padre Island\, TX\, 78597-6501\, United States
ATTACH;FMTTYPE=image/jpeg:https://info.enjoyspi.com/wp-content/uploads/2025/05/DEVILLA-LIVE-ON-LA-COPA-SOCIAL-MEDIA-scaled.jpg
END:VEVENT
BEGIN:VEVENT
DTSTART;TZID=America/Chicago:20260719T150000
DTEND;TZID=America/Chicago:20260719T180000
DTSTAMP:20260421T081208
CREATED:20250516T205911Z
LAST-MODIFIED:20250516T205911Z
UID:10004700-1784473200-1784484000@info.enjoyspi.com
SUMMARY:Devilla at La Copa
DESCRIPTION:Join us Fridays & Sundays from 3:00 PM – 6:00 PM for an unforgettable poolside performance! \n\n\nRelax\, sip on a drink from La Copa Cabana Bar & Grill\, and enjoy the perfect beachside vibes with Devilla live music.\n\n\nTag your friends and make it a music-filled weekend!
URL:https://info.enjoyspi.com/event/devilla-at-la-copa/2026-07-19/
LOCATION:La Copa Inn\, 350 Padre Blvd\, South Padre Island\, TX\, 78597-6501\, United States
ATTACH;FMTTYPE=image/jpeg:https://info.enjoyspi.com/wp-content/uploads/2025/05/DEVILLA-LIVE-ON-LA-COPA-SOCIAL-MEDIA-scaled.jpg
END:VEVENT
BEGIN:VEVENT
DTSTART;TZID=America/Chicago:20260724T150000
DTEND;TZID=America/Chicago:20260724T180000
DTSTAMP:20260421T081208
CREATED:20250516T205911Z
LAST-MODIFIED:20250516T205911Z
UID:10004701-1784905200-1784916000@info.enjoyspi.com
SUMMARY:Devilla at La Copa
DESCRIPTION:Join us Fridays & Sundays from 3:00 PM – 6:00 PM for an unforgettable poolside performance! \n\n\nRelax\, sip on a drink from La Copa Cabana Bar & Grill\, and enjoy the perfect beachside vibes with Devilla live music.\n\n\nTag your friends and make it a music-filled weekend!
URL:https://info.enjoyspi.com/event/devilla-at-la-copa/2026-07-24/
LOCATION:La Copa Inn\, 350 Padre Blvd\, South Padre Island\, TX\, 78597-6501\, United States
ATTACH;FMTTYPE=image/jpeg:https://info.enjoyspi.com/wp-content/uploads/2025/05/DEVILLA-LIVE-ON-LA-COPA-SOCIAL-MEDIA-scaled.jpg
END:VEVENT
BEGIN:VEVENT
DTSTART;TZID=America/Chicago:20260726T150000
DTEND;TZID=America/Chicago:20260726T180000
DTSTAMP:20260421T081208
CREATED:20250516T205911Z
LAST-MODIFIED:20250516T205911Z
UID:10004702-1785078000-1785088800@info.enjoyspi.com
SUMMARY:Devilla at La Copa
DESCRIPTION:Join us Fridays & Sundays from 3:00 PM – 6:00 PM for an unforgettable poolside performance! \n\n\nRelax\, sip on a drink from La Copa Cabana Bar & Grill\, and enjoy the perfect beachside vibes with Devilla live music.\n\n\nTag your friends and make it a music-filled weekend!
URL:https://info.enjoyspi.com/event/devilla-at-la-copa/2026-07-26/
LOCATION:La Copa Inn\, 350 Padre Blvd\, South Padre Island\, TX\, 78597-6501\, United States
ATTACH;FMTTYPE=image/jpeg:https://info.enjoyspi.com/wp-content/uploads/2025/05/DEVILLA-LIVE-ON-LA-COPA-SOCIAL-MEDIA-scaled.jpg
END:VEVENT
BEGIN:VEVENT
DTSTART;TZID=America/Chicago:20260731T150000
DTEND;TZID=America/Chicago:20260731T180000
DTSTAMP:20260421T081208
CREATED:20250516T205911Z
LAST-MODIFIED:20250516T205911Z
UID:10004703-1785510000-1785520800@info.enjoyspi.com
SUMMARY:Devilla at La Copa
DESCRIPTION:Join us Fridays & Sundays from 3:00 PM – 6:00 PM for an unforgettable poolside performance! \n\n\nRelax\, sip on a drink from La Copa Cabana Bar & Grill\, and enjoy the perfect beachside vibes with Devilla live music.\n\n\nTag your friends and make it a music-filled weekend!
URL:https://info.enjoyspi.com/event/devilla-at-la-copa/2026-07-31/
LOCATION:La Copa Inn\, 350 Padre Blvd\, South Padre Island\, TX\, 78597-6501\, United States
ATTACH;FMTTYPE=image/jpeg:https://info.enjoyspi.com/wp-content/uploads/2025/05/DEVILLA-LIVE-ON-LA-COPA-SOCIAL-MEDIA-scaled.jpg
END:VEVENT
BEGIN:VEVENT
DTSTART;TZID=America/Chicago:20260802T150000
DTEND;TZID=America/Chicago:20260802T180000
DTSTAMP:20260421T081208
CREATED:20250516T205911Z
LAST-MODIFIED:20250516T205911Z
UID:10004704-1785682800-1785693600@info.enjoyspi.com
SUMMARY:Devilla at La Copa
DESCRIPTION:Join us Fridays & Sundays from 3:00 PM – 6:00 PM for an unforgettable poolside performance! \n\n\nRelax\, sip on a drink from La Copa Cabana Bar & Grill\, and enjoy the perfect beachside vibes with Devilla live music.\n\n\nTag your friends and make it a music-filled weekend!
URL:https://info.enjoyspi.com/event/devilla-at-la-copa/2026-08-02/
LOCATION:La Copa Inn\, 350 Padre Blvd\, South Padre Island\, TX\, 78597-6501\, United States
ATTACH;FMTTYPE=image/jpeg:https://info.enjoyspi.com/wp-content/uploads/2025/05/DEVILLA-LIVE-ON-LA-COPA-SOCIAL-MEDIA-scaled.jpg
END:VEVENT
END:VCALENDAR